BEGIN:VCALENDAR
VERSION:2.0
PRODID:-//Utah Surf Soccer Club - ECPv6.15.20//NONSGML v1.0//EN
CALSCALE:GREGORIAN
METHOD:PUBLISH
X-ORIGINAL-URL:https://utahsurfsoccer.com
X-WR-CALDESC:Events for Utah Surf Soccer Club
REFRESH-INTERVAL;VALUE=DURATION:PT1H
X-Robots-Tag:noindex
X-PUBLISHED-TTL:PT1H
BEGIN:VTIMEZONE
TZID:UTC
BEGIN:STANDARD
TZOFFSETFROM:+0000
TZOFFSETTO:+0000
TZNAME:UTC
DTSTART:20240101T000000
END:STANDARD
END:VTIMEZONE
BEGIN:VEVENT
DTSTART;VALUE=DATE:20250709
DTEND;VALUE=DATE:20250713
DTSTAMP:20260425T133420
CREATED:20250317T171917Z
LAST-MODIFIED:20250317T171917Z
UID:5210-1752019200-1752364799@utahsurfsoccer.com
SUMMARY:2025 Utah Surf Invitational
DESCRIPTION:
URL:https://utahsurfsoccer.com/event/2025-utah-surf-invitational/
LOCATION:Lakeside Sports Complex\, 1850 W 400 S\, Orem\, UT
ATTACH;FMTTYPE=image/jpeg:https://utahsurfsoccer.com/wp-content/uploads/2025/03/Add-a-heading-11-scaled.jpg
ORGANIZER;CN="Hannah Silvey":MAILTO:tournaments@utahsurfsoccer.com
END:VEVENT
END:VCALENDAR